BEGIN:VCALENDAR
VERSION:2.0
PRODID:-//eventon.com NONSGML v1.0//EN
CALSCALE:GREGORIAN
METHOD:PUBLISH
BEGIN:VEVENT
UID:69e59b7c40c15
DTSTAMP:20260420T032028Z
DTSTART:20260801T113000Z
DTEND:20260801T130000Z
LOCATION:Permakulturhof Ackerperlen In der Weide/ Ecke Hofschläger Deich\,  21037 Hamburg
SUMMARY:Essen\,  da wo’s wächst.
DESCRIPTION:Was passiert\,  wenn der Boden selbst zum Tisch wird? Wir schaf
 fen einen Essplatz mitten im Garten – direkt zwischen den Beeten. Gemeins
 am bauen wir einen Erdtisch und erleben\,  wie sich Essen verändert\,  wen
 n man dort sitzt\,  wo es gewachsen ist. Nähe zur Erde\,  andere Gespräch
 e\,  ein anderes Tempo. Ein Workshop[..]
URL:https://ackerperlen.de/termin/essen-da-wos-waechst/
END:VEVENT
END:VCALENDAR