BEGIN:VCALENDAR
VERSION:2.0
PRODID:-//eventon.com NONSGML v1.0//EN
CALSCALE:GREGORIAN
METHOD:PUBLISH
BEGIN:VEVENT
UID:69e6392d911ee
DTSTAMP:20260420T143317Z
DTSTART:20260606T130000Z
DTEND:20260606T160000Z
LOCATION:Permakulturhof Ackerperlen In der Weide/ Ecke Hofschläger Deich\,  21037 Hamburg
SUMMARY:Offener Garten im Juni
DESCRIPTION:Wunderbarste Quarktorte\,  salted Caramel Cake\,  saisonale Lie
 blingsrezepte. Im Juni schmeckt der Hof nach Sommer und süßer Pause. Zwis
 chen Gemüsebeeten entsteht ein Ort\,  an dem ein Stück nie genug ist.
URL:https://ackerperlen.de/termin/offener-garten-im-juni/
END:VEVENT
END:VCALENDAR